BEGIN:VCALENDAR
VERSION:2.0
PRODID:-//Gransee eine historische Altstadt - ECPv5.1.6//NONSGML v1.0//EN
CALSCALE:GREGORIAN
METHOD:PUBLISH
X-WR-CALNAME:Gransee eine historische Altstadt
X-ORIGINAL-URL:https://gransee-info.de
X-WR-CALDESC:Veranstaltungen für Gransee eine historische Altstadt
BEGIN:VTIMEZONE
TZID:UTC
BEGIN:STANDARD
TZOFFSETFROM:+0000
TZOFFSETTO:+0000
TZNAME:UTC
DTSTART:20260101T000000
END:STANDARD
END:VTIMEZONE
BEGIN:VEVENT
DTSTART;TZID=UTC:20260813T193000
DTEND;TZID=UTC:20260813T213000
DTSTAMP:20260420T144937
CREATED:20260227T092737Z
LAST-MODIFIED:20260227T095551Z
UID:772-1786649400-1786656600@gransee-info.de
SUMMARY:„50 Jahre Karussell - Die Jubiläumstour“
DESCRIPTION:50 Jahre Karussell\nDie Rockband Karussell tritt in der St. Marienkirche Gransee auf. Das Konzert ist Teil ihrer „50 Jahre Karussell – Die Jubiläumstour“\, die das fünfzigjährige Bestehen der 1976 in Leipzig gegründeten Band feiert.
URL:https://gransee-info.de/event/50-jahre-karussell-die-jubilaeumstour
LOCATION:Marienkirche Gransee\, Kirchplatz\, Gransee\, 16775\, Deutschland
END:VEVENT
BEGIN:VEVENT
DTSTART;TZID=UTC:20260905T150000
DTEND;TZID=UTC:20260905T190000
DTSTAMP:20260420T144937
CREATED:20250409T093940Z
LAST-MODIFIED:20260407T111616Z
UID:650-1788620400-1788634800@gransee-info.de
SUMMARY:Kraatzer Skizzen - Und da wird es Raum
DESCRIPTION:Improvisation trifft Installation\nMit Marcos Meza\, Klavier und Friedemann von Stockhausen\, Installation.\n­
URL:https://gransee-info.de/event/singing-brandenburg
LOCATION:Konzertscheune/ Kraatzer Skizzen\, Lindenstraße 7\, Gransee OT Kraatz\, Brandenburg\, 16775\, Deutschland
END:VEVENT
END:VCALENDAR