BEGIN:VCALENDAR
VERSION:2.0
PRODID:-//Gransee eine historische Altstadt - ECPv5.1.6//NONSGML v1.0//EN
CALSCALE:GREGORIAN
METHOD:PUBLISH
X-WR-CALNAME:Gransee eine historische Altstadt
X-ORIGINAL-URL:https://gransee-info.de
X-WR-CALDESC:Veranstaltungen für Gransee eine historische Altstadt
BEGIN:VTIMEZONE
TZID:UTC
BEGIN:STANDARD
TZOFFSETFROM:+0000
TZOFFSETTO:+0000
TZNAME:UTC
DTSTART:20260101T000000
END:STANDARD
END:VTIMEZONE
BEGIN:VEVENT
DTSTART;TZID=UTC:20260127T140000
DTEND;TZID=UTC:20260127T160000
DTSTAMP:20260422T083220
CREATED:20250521T103447Z
LAST-MODIFIED:20260114T125213Z
UID:702-1769522400-1769529600@gransee-info.de
SUMMARY:Klönnachmittag im Café Zeitlos Enkeltrick\, Haustürgeschäft & Taschendiebstahl – Sicher im Alter leben
DESCRIPTION:Mit einem besonderen Angebot startet das Fürstenberger Café ZEITLOS ins neue Jahr: Ein Präventionsnachmittag für Seniorinnen und Senioren.\nZu Gast ist Winnie Klingenberg von der Präventionsstelle der Polizeidirektion Nord/Oranienburg\, die anschaulich und praxisnah zeigt\, wie man sich im Alltag vor Betrugsmaschen schützt. Unterstützt wird sie dabei vor Ort von den Fürstenberger Revierpolizistinnen Heike Döpke und Alexandra Staufenbiel.\nFalsche Identitäten\, dubiose Haustürgeschäfte\, gefälschte Briefe – die Methoden von Betrügern werden immer raffinierter. An diesem Nachmittag erfahren Interessierte\, wie sie Enkeltrick\, Taschendiebstahl\, Fake-Mails und anderen Betrugsversuchen sicher begegnen können. \nEin kurzer Film\, echte Beispiele aus dem Landkreis Oberhavel sowie viele konkrete Verhaltenstipps helfen dabei\, im Ernstfall richtig zu reagieren und nicht in die Falle zu tappen. Neben wichtigen Informationen bietet der Nachmittag genügend Raum für Austausch und persönliche Gespräche in gemütlicher Atmosphäre bei Kaffee und Kuchen. \nUm Voranmeldung wird gebeten unter: Telefon 033093 617599 oder E-Mail cafe-zeitlos@senio-vital.de \nDie Klönnachmittage im Café ZEITLOS finden auch 2026 jeden letzten Dienstag im Monat statt – mit wechselnden Themen rund um Alltag\, Sicherheit und Miteinander.
URL:https://gransee-info.de/event/kloennachmittag-im-cafe-zeitlos-5
LOCATION:Café ZEITLOS\, Bahnhofstraße 8\, Fürstenberg/ Havel\, 16798
END:VEVENT
BEGIN:VEVENT
DTSTART;TZID=UTC:20260211T100000
DTEND;TZID=UTC:20260211T120000
DTSTAMP:20260422T083220
CREATED:20250521T102905Z
LAST-MODIFIED:20260121T095338Z
UID:698-1770804000-1770811200@gransee-info.de
SUMMARY:Demenz verstehen und begleiten im Café ZEITLOS
DESCRIPTION:Informationsveranstaltung bei SENIO-VITAL.\nDie Veranstaltung richtet sich insbesondere an pflegende Angehörige sowie an Interessierte\, die sich frühzeitig informieren möchten. \nUnter dem Titel „Demenz verstehen und begleiten – Pflegeleistungen sinnvoll nutzen“ erhalten Teilnehmende grundlegende Informationen rund um das Krankheitsbild Demenz\, erste Anzeichen sowie Unterstützungs- und Entlastungsmöglichkeiten im Alltag. \nReferentin ist Bianca Rehse\, moderiert wird die Veranstaltung von Cindy Kuschel – beide sind vom Märkischen Sozialverein e. V.\, Kontakt- und Beratungsstelle für Menschen mit Demenz und Angehörige. Sie geben praxisnahe Einblicke und beantworten unter anderem folgende Fragen: Woran lassen sich erste Anzeichen einer Demenzerkrankung erkennen? Wann sollte ärztlicher Rat eingeholt werden? Welche Anlaufstellen und Unterstützungsangebote gibt es für Angehörige? Wie können Pflegeleistungen sinnvoll genutzt werden? \nDie Informationsveranstaltung bildet zugleich den Auftakt zu einer viertägigen\, kostenfreien Demenz-Schulungsreihe „Hilfe beim Helfen“\, die im März bei SENIO-VITAL in Fürstenberg/Havel starten wird. \nDas Angebot ist eine Kooperation der BARMER mit der Alzheimer Gesellschaft Brandenburg e. V.\, dem Märkischen Sozialverein e. V. sowie dem Unternehmensverbund SENIO-VITAL. \nDie Teilnahme an der Veranstaltung am 11. Februar ist für Versicherte aller Krankenkassen kostenfrei. Um vorherige Anmeldung wird gebeten bei Bianca Rehse unter Telefon 03301 6896960 oder per E-Mail an alzheimerberatung@msvev.de.
URL:https://gransee-info.de/event/kloennachmittag-im-cafe-zeitlos-3
LOCATION:SENIO-VITAL Gesundheits- & Therapiezentrum\, Brandenburger Straße 5\, Fürstenberg\, 16798
ORGANIZER;CN="SENIO-VITAL%20Gesundheits-%20%26%20Therapiezentrum":MAILTO:therapiezentrum-fuerstenberg@senio-vital.de
END:VEVENT
END:VCALENDAR