BEGIN:VCALENDAR
VERSION:2.0
PRODID:-//Gransee eine historische Altstadt - ECPv5.1.6//NONSGML v1.0//EN
CALSCALE:GREGORIAN
METHOD:PUBLISH
X-WR-CALNAME:Gransee eine historische Altstadt
X-ORIGINAL-URL:https://gransee-info.de
X-WR-CALDESC:Veranstaltungen für Gransee eine historische Altstadt
BEGIN:VTIMEZONE
TZID:UTC
BEGIN:STANDARD
TZOFFSETFROM:+0000
TZOFFSETTO:+0000
TZNAME:UTC
DTSTART:20250101T000000
END:STANDARD
END:VTIMEZONE
BEGIN:VEVENT
DTSTART;TZID=UTC:20251030T200000
DTEND;TZID=UTC:20251030T233000
DTSTAMP:20260422T133211
CREATED:20250904T095411Z
LAST-MODIFIED:20251022T103109Z
UID:720-1761854400-1761867000@gransee-info.de
SUMMARY:Oktoberfest
DESCRIPTION:Oktoberfest mit dem Tschirgant Duo aus Österreich und der Flottn3er Partyband vom Münchner Oktoberfest.\nTickets unter: www.eventim.de
URL:https://gransee-info.de/event/oktoberfest
LOCATION:Platz der Jugend\, Gransee\, 16775
ATTACH;FMTTYPE=image/jpeg:https://gransee-info.de/wp-content/uploads/2025/09/IMG_5837.jpg
END:VEVENT
BEGIN:VEVENT
DTSTART;TZID=UTC:20251031T200000
DTEND;TZID=UTC:20251031T233000
DTSTAMP:20260422T133211
CREATED:20250904T100147Z
LAST-MODIFIED:20251022T103129Z
UID:725-1761940800-1761953400@gransee-info.de
SUMMARY:Oktoberfest
DESCRIPTION:Oktoberfest mit dem Tschirgant Duo aus Österreich und der Flottn3er Partyband vom Münchner Oktoberfest.\nTickets unter: www.eventime.de
URL:https://gransee-info.de/event/oktoberfest-2
LOCATION:Platz der Jugend\, Gransee\, 16775
ATTACH;FMTTYPE=image/jpeg:https://gransee-info.de/wp-content/uploads/2025/09/IMG_5837.jpg
END:VEVENT
BEGIN:VEVENT
DTSTART;TZID=UTC:20251129T140000
DTEND;TZID=UTC:20251129T190000
DTSTAMP:20260422T133211
CREATED:20251022T102814Z
LAST-MODIFIED:20251022T102814Z
UID:730-1764424800-1764442800@gransee-info.de
SUMMARY:Adventszauber
DESCRIPTION:Familiärer Weihnachtsmarkt mit Herz bei SENIO-VITAL und dem Café ZEITLOS.\nWenn sich das Jahr dem Ende neigt\, wird es in Fürstenberg/Havel besonders besinnlich. SENIO-VITAL und das Café ZEITLOS lädt wieder zu einem stimmungsvollen Adventszauber ein. Alle Fürstenbergerinnen\, Fürstenberger und Gäste von Klein bis Groß sind herzlich willkommen\, die weihnachtliche Zeit gemeinsam einzuläuten. \nDie Bahnhofstraße 8 erstrahlt in festlichem Glanz und lockt mit Lichterzauber\, Leckereien\, Handgemachtem und jeder Menge Gemütlichkeit – im Café ZEITLOS\, auf der Hofterrasse und im beheizten Festzelt. Das Café ZEITLOS verwöhnt mit hausgemachtem Kuchen\, frischen Waffeln und Crêpes. Im Festzelt kann nach Herzenslust gemalt und gebastelt werden\, perfekt für kleine Weihnachtskünstler. Wer noch nach besonderen Geschenken sucht\, wird bei einer Auswahl handgefertigter Produkte aus der Region sicher fündig\, darunter Keramik\, Accessoires\, Seifen und Kerzen. Auf der festlich geschmückten Hofterrasse erwarten die Gäste Deftiges vom Grill\, Glühwein und Kinderpunsch. An der Feuerschale darf Stockbrot gebacken und die winterliche Atmosphäre genossen werden. \n Klein\, fein und voller Charme – ein fröhlicher Adventsmarkt für die ganze Familie\, der Vorfreude auf Weihnachten weckt und die Herzen erwärmt.
URL:https://gransee-info.de/event/adventszauber
LOCATION:Café ZEITLOS\, Bahnhofstraße 8\, Fürstenberg/ Havel\, 16798
ATTACH;FMTTYPE=image/jpeg:https://gransee-info.de/wp-content/uploads/2025/05/Kloennachmittag-im-Cafe-ZEITLOS_Andre-Wirsig.jpg
END:VEVENT
END:VCALENDAR