BEGIN:VCALENDAR
VERSION:2.0
PRODID:-//Gransee eine historische Altstadt - ECPv5.1.6//NONSGML v1.0//EN
CALSCALE:GREGORIAN
METHOD:PUBLISH
X-WR-CALNAME:Gransee eine historische Altstadt
X-ORIGINAL-URL:https://gransee-info.de
X-WR-CALDESC:Veranstaltungen für Gransee eine historische Altstadt
BEGIN:VTIMEZONE
TZID:UTC
BEGIN:STANDARD
TZOFFSETFROM:+0000
TZOFFSETTO:+0000
TZNAME:UTC
DTSTART:20250101T000000
END:STANDARD
END:VTIMEZONE
BEGIN:VEVENT
DTSTART;TZID=UTC:20250729T140000
DTEND;TZID=UTC:20250729T160000
DTSTAMP:20260422T203458
CREATED:20250521T102521Z
LAST-MODIFIED:20250521T102521Z
UID:694-1753797600-1753804800@gransee-info.de
SUMMARY:Klönnachmittag im Café ZEITLOS
DESCRIPTION:Mit der Revierpolizei Fürstenberg im Gespräch – Heike Döpke und Alexandra Staufenbiel zu Gast\nDie beliebten Klönnachmittage im Fürstenberger Café ZEITLOS erhalten ein frisches Konzept. Ab sofort steht dieser offene Treff\, der jeden letzten Dienstag im Monat ab 14 Uhr stattfindet\, unter spannenden Mottos\, die Gesprächsanlässe bieten\, zum Mitmachen einladen und interessante Einblicke ermöglichen. Gemeinsam mit dem Verein Alter Aktiv e.V. und regionalen Partnern wird so nicht nur der Austausch untereinander gefördert\, sondern es entstehen neue Impulse für alle Generationen. Ob Seniorinnen und Senioren\, Junggebliebene oder einfach Interessierte aller Altersgruppen – alle sind herzlich eingeladen\, in geselliger Runde neue Perspektiven zu entdecken. Für das leibliche Wohl ist wie immer bestens durch das Café ZEITLOS gesorgt.Foto: André Wirsig
URL:https://gransee-info.de/event/kloennachmittag-im-cafe-zeitlos
LOCATION:Café ZEITLOS\, Bahnhofstraße 8\, Fürstenberg/ Havel\, 16798
END:VEVENT
BEGIN:VEVENT
DTSTART;TZID=UTC:20250802T110000
DTEND;TZID=UTC:20250802T123000
DTSTAMP:20260422T203458
CREATED:20230509T092259Z
LAST-MODIFIED:20250114T093837Z
UID:402-1754132400-1754137800@gransee-info.de
SUMMARY:Stadtführungen “Gransee entdecken und erleben”
DESCRIPTION:Die Stadtführung “Gransee entdecken und erleben” mit dem Stadtschreiber Carsten Dräger im historischen Gewand.\nVoranmeldung erbeten telefonisch oder per e-mail in der TI Gransee oder bei Carsten Dräger\nTelefon: 033083 80201/ 015144209051/e-mail: carsten.f.draeger@gmail.com
URL:https://gransee-info.de/event/stadtfuehrungen-gransee-entdecken-und-erleben-14
LOCATION:Luisendenkmal\, Schinkelplatz\, Gransee\, 16775
ORGANIZER;CN="Carsten%20Dr%C3%A4ger":MAILTO:carsten.f.draeger@gmail.com
END:VEVENT
BEGIN:VEVENT
DTSTART;TZID=UTC:20250809T143000
DTEND;TZID=UTC:20250809T160000
DTSTAMP:20260422T203458
CREATED:20230509T091229Z
LAST-MODIFIED:20250114T093930Z
UID:392-1754749800-1754755200@gransee-info.de
SUMMARY:Stadtführungen “Gransee entdecken und erleben”
DESCRIPTION:Die Stadtführung “Gransee entdecken und erleben” mit dem Stadtschreiber Carsten Dräger im historischen Gewand.\nVoranmeldung erbeten telefonisch oder per e-mail in der TI Gransee oder bei Carsten Dräger\nTelefon: 033083 80201/ 015144209051/e-mail: carsten.f.draeger@gmail.com
URL:https://gransee-info.de/event/stadtfuehrungen-gransee-entdecken-und-erleben-9
LOCATION:Luisendenkmal\, Schinkelplatz\, Gransee\, 16775
ORGANIZER;CN="Carsten%20Dr%C3%A4ger":MAILTO:carsten.f.draeger@gmail.com
END:VEVENT
BEGIN:VEVENT
DTSTART;TZID=UTC:20250813T143000
DTEND;TZID=UTC:20250813T160000
DTSTAMP:20260422T203458
CREATED:20230509T092433Z
LAST-MODIFIED:20250114T094026Z
UID:404-1755095400-1755100800@gransee-info.de
SUMMARY:Stadtführungen “Gransee entdecken und erleben”
DESCRIPTION:Die Stadtführung “Gransee entdecken und erleben” mit dem Stadtschreiber Carsten Dräger im historischen Gewand.\nVoranmeldung erbeten telefonisch oder per e-mail in der TI Gransee oder bei Carsten Dräger\nTelefon: 033083 80201/ 015144209051/e-mail: carsten.f.draeger@gmail.com
URL:https://gransee-info.de/event/stadtfuehrungen-gransee-entdecken-und-erleben-15
LOCATION:Luisendenkmal\, Schinkelplatz\, Gransee\, 16775
ORGANIZER;CN="Carsten%20Dr%C3%A4ger":MAILTO:carsten.f.draeger@gmail.com
END:VEVENT
BEGIN:VEVENT
DTSTART;TZID=UTC:20250820T110000
DTEND;TZID=UTC:20250820T123000
DTSTAMP:20260422T203458
CREATED:20230509T090645Z
LAST-MODIFIED:20250114T094127Z
UID:388-1755687600-1755693000@gransee-info.de
SUMMARY:Stadtführungen “Gransee entdecken und erleben”
DESCRIPTION:Die Stadtführung “Gransee entdecken und erleben” mit dem Stadtschreiber Carsten Dräger im historischen Gewand.\nVoranmeldung erbeten telefonisch oder per e-mail in der TI Gransee oder bei Carsten Dräger\nTelefon: 033083 80201/ 015144209051/e-mail: carsten.f.draeger@gmail.com
URL:https://gransee-info.de/event/stadtfuehrungen-gransee-entdecken-und-erleben-7
LOCATION:Luisendenkmal\, Schinkelplatz\, Gransee\, 16775
ORGANIZER;CN="Carsten%20Dr%C3%A4ger":MAILTO:carsten.f.draeger@gmail.com
END:VEVENT
END:VCALENDAR