BEGIN:VCALENDAR
VERSION:2.0
PRODID:-//Gransee eine historische Altstadt - ECPv5.1.6//NONSGML v1.0//EN
CALSCALE:GREGORIAN
METHOD:PUBLISH
X-WR-CALNAME:Gransee eine historische Altstadt
X-ORIGINAL-URL:https://gransee-info.de
X-WR-CALDESC:Veranstaltungen für Gransee eine historische Altstadt
BEGIN:VTIMEZONE
TZID:UTC
BEGIN:STANDARD
TZOFFSETFROM:+0000
TZOFFSETTO:+0000
TZNAME:UTC
DTSTART:20250101T000000
END:STANDARD
END:VTIMEZONE
BEGIN:VEVENT
DTSTART;TZID=UTC:20250702T110000
DTEND;TZID=UTC:20250702T123000
DTSTAMP:20260422T224123
CREATED:20230509T091400Z
LAST-MODIFIED:20250114T093347Z
UID:394-1751454000-1751459400@gransee-info.de
SUMMARY:Stadtführungen “Gransee entdecken und erleben”
DESCRIPTION:Die Stadtführung “Gransee entdecken und erleben” mit dem Stadtschreiber Carsten Dräger im historischen Gewand.\nVoranmeldung erbeten telefonisch oder per e-mail in der TI Gransee oder bei Carsten Dräger\nTelefon: 033083 80201/ 015144209051/e-mail: carsten.f.draeger@gmail.com
URL:https://gransee-info.de/event/stadtfuehrungen-gransee-entdecken-und-erleben-10
LOCATION:Luisendenkmal\, Schinkelplatz\, Gransee\, 16775
ORGANIZER;CN="Carsten%20Dr%C3%A4ger":MAILTO:carsten.f.draeger@gmail.com
END:VEVENT
BEGIN:VEVENT
DTSTART;TZID=UTC:20250711T190000
DTEND;TZID=UTC:20250712T233000
DTSTAMP:20260422T224123
CREATED:20240626T094415Z
LAST-MODIFIED:20250624T114121Z
UID:536-1752260400-1752363000@gransee-info.de
SUMMARY:2. Brandenburgisches Wasserfest
DESCRIPTION:Die Koordinaten sind gesetzt und die Navigation läuft: Am 11. & 12. Juli heißt es: „Leinen los\, auf geht’s zum 28. Brandenburger Wasserfest“!\nDer erste Ankerplatz ist um 19 Uhr an der Stadtkirche Fürstenberg/Havel. Hier spielen „Harry’s Freilach“ Klezmer tov! Das ist herrliche Feier- und Festmusik osteuropäisch-jüdischen Ursprungs mit Klarinette\, Akkordeon und Kontrabass. Später heißt es: „Klar zum Ablegen“ bzw. „Auflegen“! In der Nacht von Freitag zu Samstag steigt in feinster Uferlocation die „Warm-Up Party“. DJ MC legt die Hits der 90er\, 2000er\, Schlager & Charts auf. Es wird getanzt\, als gäbe es kein Morgen. Doch der kommt\, und zwar ganz leise: Psst\, der Angelkönig wird gesucht. Mit den Pauken und Trompeten des Fanfarenzuges Neustrelitz zieht dann der Festumzug der Schützenzunft zu Fürstenberg e.V. mit seinen Gastvereinen durch die Wasserstadt und wird im Stadtpark mit Böller-\, Salutschießen und dem Bierfassanstich empfangen. Wer es königlich mag oder einfach nur neugierig ist\, hat bei geführten Touren die Gelegenheit einen Exklusiv-Blick in das Fürstenberger Schloss zu werfen.\nFeucht-fröhliche Attraktionen des Wasserfestes werden die Seerosenfahrten mit Barkassenbooten sowie die 28. Offene Yardstickregatta auf dem Schwedtsee mit dem Fürstenberger Yachtclub e.V.\, vom Festland betrachtet wie ein Tanz der kleinen und großen Segel auf dem See.\nMit allen Wassern gewaschen ist übrigens auch wieder das Festprogramm\, eine Show jagt die nächste Band bis zum kommenden Konzert. Am frühen Nachmittag dürfen wir uns auf die Kinderzauberei „Zwergenfeier“ freuen. Das wird atemberaubend knister-spannend für die gesamte Crew\, versprochen! Für das Wasserfestkonzert sind „Paul & Aggi – INSANE“ angeheuert\, ein Gesangs-Duo wie für einen Sommernachmittag gemacht – beliebte & bekannte Cover-Songs\, gerne zum Mitsingen. Ebenfalls live auf der Bühne wird Dana Franzis feinsten Schlagerpop mit Herz und Seele und eventuell auch etwas „atemlos“ vortragen\, bevor uns „DAS FIASKO“ in die Nacht begleitet. Das ist DIE Show-Partyband\, mit ständig wechselnden Kostümen und viel Kamera- und Videotechnik\, die ein Maximum an Unterhaltung und einen unvergesslichen Auftritt versprechen\, aye! Zwischendrin zeigen Cherry Berlin eine LED-Feuershow und es steigt eine Multimedia-Show\, wo jedes Dampferlicht einpacken kann. Nach dem Zünden des bereits legendären Wasserhöhenfeuerwerkes geht die Partynacht weiter mit DJ PeeKay & DJ MarcJones von Klangkultur-MV bis das Wasserfest gefeiert ist.\nAm 13.07. beteiligen sich Fürstenberger Geschäfte am verkaufsoffenen Sonntag.\nViele\, viele weitere Aktionen\, Stände\, Überraschungen\, Präsentationen und Vorführungen werden das 28. Brandenburger Wasserfest begleiten und abrunden. Sollten Sie zu den Wasserfesttagen in der Nähe sein\, lassen Sie sich das Spektakel nicht entgehen. Oder noch besser\, planen Sie es einfach gleich fest ein.  \nWeitere Informationen und das komplette Festprogramm: \nhttps://www.fuerstenberg-havel.de/wasserfest
URL:https://gransee-info.de/event/27-brandenburgisches-wasserfest
LOCATION:Fürstenberg/Havel\, Fürstenberg\, Brandenburg\, 16798
END:VEVENT
BEGIN:VEVENT
DTSTART;TZID=UTC:20250713T180000
DTEND;TZID=UTC:20250713T190000
DTSTAMP:20260422T224123
CREATED:20250521T095635Z
LAST-MODIFIED:20250521T095640Z
UID:681-1752429600-1752433200@gransee-info.de
SUMMARY:Die Orgel tanzt - Walzer\, Tango\, Boogie und Co.
DESCRIPTION:“Die Orgel tanzt – Walzer\, Tango\, Boogie und Co.”. Ein humorvolles Orgelkonzert\, bei dem die Pfeifen tanzen\, kann man am Sonntag\, dem 13. Juli um 18 Uhr in der St. Marienkirche Gransee erleben. An diesem Abend ist die barocke Orgel in einem beschwingten und humorvollen Konzert mit 4 Händen und 4 Füßen sowie gleichzeitiger Video-Übertragung der Orgel-Spielanlage auf eine große Leinwand im Kirchenraum zu sehen und zu hören. \nDie Besucher erwartet originale Tanzmusik für Pfeifenorgel von 1500 bis heute. Bereits in der Frühzeit der Orgelmusik wurden neben geistlichen Kompositionen auch Tänze für Orgel komponiert. Schon in den ersten Orgel-Notenbüchern im 14. Jahrhundert sind erste Orgel-Tänze überliefert. Auch in Klöstern der Barockzeit entstand Orgel-Tanzmusik oder im 19. Jahrhundert in der Schweiz die berühmten Toggenburger Hausorgeltänze. Heute wird diese Tradition mit neuen Orgelstücken im Swing- und Jazz-Stil fortgesetzt. Die Konzertbesucher erwarten Tänze\, Märsche\, Walzer\, Tango\, Polka\, Ländler\, Swing\, Blues\, Cha Cha Cha\, Boogie und Co. von Elias Nikolaus Ammerbach\, Giovanni Morandi\, Elsbeth Forrer\, Thomas P. Westendorf\, Julien Bret\, Robin Dinda\, Carsten Lenz u. a. \nIris und Carsten Lenz sind Organisten an der großen und bedeutenden Skinner-Orgel der Saalkirche in Ingelheim am Rhein. Dort haben sie gerade seit der Corona-Zeit einige vielbeachtete evangelische ZDF-Fernsehgottesdienste musikalisch gestaltet. Mit ihren vierhändigen Konzertprogrammen haben sie bisher zahlreiche Konzerte in vielen Ländern Europas und in den USA gespielt. Zusätzlich haben sie rund 30 CD-Einspielungen und 3 Video-DVDs vorgelegt sowie bei weiteren Radio- und TV-Produktionen mitgewirkt. \nDie Musiker ergänzen: “Die barocke Orgel aus den Werkstätten Wagner und Schuke hat mit ihren 2.044 Pfeifen ein farbenreiches Klangbild\, das sich ideal für unser Konzertprogramm mit fröhlichen und beschwingten Orgel-Tänzen eignet. Ca.10 Minuten vor Konzertbeginn machen wir als kleines Vorprogramm noch eine kurze Orgel-Vorführung\, bei der die Besucher Einblicke in die Funktionsweise und Klangmöglichkeiten der Orgel bekommen.” \nDer Eintritt ist frei (Kollekte am Ausgang).Infos zu den Ausführenden und Demo-Video: www.lenz-musik.de.
URL:https://gransee-info.de/event/die-orgel-tanzt-walzer-tango-boogie-und-co
LOCATION:Marienkirche Gransee\, Kirchplatz\, Gransee\, 16775\, Deutschland
ORGANIZER;CN="Marienkirche%20Gransee":MAILTO:gemeindebuero@kirchengemeinde-gransee.de
END:VEVENT
BEGIN:VEVENT
DTSTART;TZID=UTC:20250723T163000
DTEND;TZID=UTC:20250723T180000
DTSTAMP:20260422T224123
CREATED:20230509T092031Z
LAST-MODIFIED:20250114T093729Z
UID:398-1753288200-1753293600@gransee-info.de
SUMMARY:Stadtführungen “Gransee entdecken und erleben”
DESCRIPTION:Die Stadtführung “Gransee entdecken und erleben” mit dem Stadtschreiber Carsten Dräger im historischen Gewand\nVoranmeldung erbeten telefonisch oder per e-mail in der TI Gransee oder bei Carsten Dräger\nTelefon: 033083 80201/ 015144209051/e-mail: carsten.f.draeger@gmail.com
URL:https://gransee-info.de/event/stadtfuehrungen-gransee-entdecken-und-erleben-12
LOCATION:Luisendenkmal\, Schinkelplatz\, Gransee\, 16775
ORGANIZER;CN="Carsten%20Dr%C3%A4ger":MAILTO:carsten.f.draeger@gmail.com
END:VEVENT
BEGIN:VEVENT
DTSTART;TZID=UTC:20250729T140000
DTEND;TZID=UTC:20250729T160000
DTSTAMP:20260422T224123
CREATED:20250521T102521Z
LAST-MODIFIED:20250521T102521Z
UID:694-1753797600-1753804800@gransee-info.de
SUMMARY:Klönnachmittag im Café ZEITLOS
DESCRIPTION:Mit der Revierpolizei Fürstenberg im Gespräch – Heike Döpke und Alexandra Staufenbiel zu Gast\nDie beliebten Klönnachmittage im Fürstenberger Café ZEITLOS erhalten ein frisches Konzept. Ab sofort steht dieser offene Treff\, der jeden letzten Dienstag im Monat ab 14 Uhr stattfindet\, unter spannenden Mottos\, die Gesprächsanlässe bieten\, zum Mitmachen einladen und interessante Einblicke ermöglichen. Gemeinsam mit dem Verein Alter Aktiv e.V. und regionalen Partnern wird so nicht nur der Austausch untereinander gefördert\, sondern es entstehen neue Impulse für alle Generationen. Ob Seniorinnen und Senioren\, Junggebliebene oder einfach Interessierte aller Altersgruppen – alle sind herzlich eingeladen\, in geselliger Runde neue Perspektiven zu entdecken. Für das leibliche Wohl ist wie immer bestens durch das Café ZEITLOS gesorgt.Foto: André Wirsig
URL:https://gransee-info.de/event/kloennachmittag-im-cafe-zeitlos
LOCATION:Café ZEITLOS\, Bahnhofstraße 8\, Fürstenberg/ Havel\, 16798
END:VEVENT
BEGIN:VEVENT
DTSTART;TZID=UTC:20250802T110000
DTEND;TZID=UTC:20250802T123000
DTSTAMP:20260422T224123
CREATED:20230509T092259Z
LAST-MODIFIED:20250114T093837Z
UID:402-1754132400-1754137800@gransee-info.de
SUMMARY:Stadtführungen “Gransee entdecken und erleben”
DESCRIPTION:Die Stadtführung “Gransee entdecken und erleben” mit dem Stadtschreiber Carsten Dräger im historischen Gewand.\nVoranmeldung erbeten telefonisch oder per e-mail in der TI Gransee oder bei Carsten Dräger\nTelefon: 033083 80201/ 015144209051/e-mail: carsten.f.draeger@gmail.com
URL:https://gransee-info.de/event/stadtfuehrungen-gransee-entdecken-und-erleben-14
LOCATION:Luisendenkmal\, Schinkelplatz\, Gransee\, 16775
ORGANIZER;CN="Carsten%20Dr%C3%A4ger":MAILTO:carsten.f.draeger@gmail.com
END:VEVENT
END:VCALENDAR