BEGIN:VCALENDAR
VERSION:2.0
PRODID:-//Gransee eine historische Altstadt - ECPv5.1.6//NONSGML v1.0//EN
CALSCALE:GREGORIAN
METHOD:PUBLISH
X-WR-CALNAME:Gransee eine historische Altstadt
X-ORIGINAL-URL:https://gransee-info.de
X-WR-CALDESC:Veranstaltungen für Gransee eine historische Altstadt
BEGIN:VTIMEZONE
TZID:UTC
BEGIN:STANDARD
TZOFFSETFROM:+0000
TZOFFSETTO:+0000
TZNAME:UTC
DTSTART:20250101T000000
END:STANDARD
END:VTIMEZONE
BEGIN:VEVENT
DTSTART;TZID=UTC:20250527T140000
DTEND;TZID=UTC:20250527T160000
DTSTAMP:20260423T003049
CREATED:20250521T101254Z
LAST-MODIFIED:20250521T101811Z
UID:684-1748354400-1748361600@gransee-info.de
SUMMARY:Klönnachmittag „So macht das Smartphone den Alltag leichter“
DESCRIPTION:Foto: André Wirsig für die Regio Nord\nKlönnachmittage im Fürstenberger Café ZEITLOS jetzt mit wechselnden Themen. Auftakt am 27. Mai: „So macht das Smartphone den Alltag leichter“ \nDie beliebten Klönnachmittage im Fürstenberger Café ZEITLOS erhalten ein frisches Konzept. Ab sofort steht dieser offene Treff\, der jeden letzten Dienstag im Monat ab 14 Uhr stattfindet\, unter spannenden Mottos\, die Gesprächsanlässe bieten\, zum Mitmachen einladen und interessante Einblicke ermöglichen. Gemeinsam mit dem Verein Alter Aktiv e.V. und regionalen Partnern wird so nicht nur der Austausch untereinander gefördert\, sondern es entstehen neue Impulse für alle Generationen. Ob Seniorinnen und Senioren\, Junggebliebene oder einfach Interessierte aller Altersgruppen – alle sind herzlich eingeladen\, in geselliger Runde neue Perspektiven zu entdecken. Für das leibliche Wohl ist wie immer bestens durch das Café ZEITLOS gesorgt. \nUnter dem Titel „So macht das Smartphone den Alltag leichter“ dreht sich der erste Themennachmittag ganz um den praktischen Umgang mit dem Smartphone. Zu Gast ist Thomas Schulze vom Digitalen Innovationszentrum Neubrandenburg\, der in lockerer Runde zeigt\, wie moderne Technik das tägliche Leben erleichtern kann – ob beim Surfen im Internet\, dem Versenden von Nachrichten an die Familie\, bei Videotelefonie oder dem Teilen von Fotos. Teilnehmende sind eingeladen\, ihr eigenes Smartphone mitzubringen und das Gelernte direkt selbst auszuprobieren. Der Nachmittag richtet sich an alle\, die ihr Gerät besser verstehen und im Alltag sicherer nutzen möchten. Natürlich bleibt dabei genug Raum für ein gemütliches Beisammensein – bei Kaffee\, Kuchen und anregenden Gesprächen.
URL:https://gransee-info.de/event/kloennachmittag-so-macht-das-smartphone-den-alltag-leichter
LOCATION:Café ZEITLOS\, Bahnhofstraße 8\, Fürstenberg/ Havel\, 16798
END:VEVENT
BEGIN:VEVENT
DTSTART;TZID=UTC:20250530T140000
DTEND;TZID=UTC:20250530T153000
DTSTAMP:20260423T003049
CREATED:20230509T083138Z
LAST-MODIFIED:20250114T092434Z
UID:375-1748613600-1748619000@gransee-info.de
SUMMARY:Stadtführungen "Gransee entdecken und erleben"
DESCRIPTION:D\nDie Stadtführung “Gransee entdecken und erleben” mit dem Stadtschreiber Carsten Dräger im historischen Gewand.Voranmeldung erbeten telefonisch oder per e-mail in der TI Gransee oder bei Carsten Dräger\nTelefon: 033083 80201/ 015144209051/e-mail: carsten.f.draeger@gmail.com
URL:https://gransee-info.de/event/stadtfuehrungen-gransee-entdecken-und-erleben-4
LOCATION:Luisendenkmal\, Schinkelplatz\, Gransee\, 16775
ORGANIZER;CN="Carsten%20Dr%C3%A4ger":MAILTO:carsten.f.draeger@gmail.com
END:VEVENT
BEGIN:VEVENT
DTSTART;TZID=UTC:20250601T180000
DTEND;TZID=UTC:20250601T193000
DTSTAMP:20260423T003049
CREATED:20250521T094925Z
LAST-MODIFIED:20250521T094925Z
UID:676-1748800800-1748806200@gransee-info.de
SUMMARY:VON LAND ZU LAND
DESCRIPTION:1989-1990 Eine musikalische Reise durch die letzten beiden Jahre der DDR-bitter-süß!\nVon und mit Andreas Domke. \nwww.wyrbelpful.de
URL:https://gransee-info.de/event/von-land-zu-land
LOCATION:Marienkirche Gransee\, Kirchplatz\, Gransee\, 16775\, Deutschland
ORGANIZER;CN="Marienkirche%20Gransee":MAILTO:gemeindebuero@kirchengemeinde-gransee.de
END:VEVENT
BEGIN:VEVENT
DTSTART;TZID=UTC:20250609T110000
DTEND;TZID=UTC:20250609T123000
DTSTAMP:20260423T003049
CREATED:20230509T090323Z
LAST-MODIFIED:20250114T092623Z
UID:384-1749466800-1749472200@gransee-info.de
SUMMARY:Stadtführungen “Gransee entdecken und erleben”
DESCRIPTION:Die Stadtführung “Gransee entdecken und erleben” mit dem Stadtschreiber Carsten Dräger im historischen Gewand.\nVoranmeldung erbeten telefonisch oder per e-mail in der TI Gransee oder bei Carsten Dräger\nTelefon: 033083 80201/ 015144209051/e-mail: carsten.f.draeger@gmail.com
URL:https://gransee-info.de/event/stadtfuehrungen-gransee-entdecken-und-erleben-6
LOCATION:Luisendenkmal\, Schinkelplatz\, Gransee\, 16775
ORGANIZER;CN="Carsten%20Dr%C3%A4ger":MAILTO:carsten.f.draeger@gmail.com
END:VEVENT
BEGIN:VEVENT
DTSTART;TZID=UTC:20250614T100000
DTEND;TZID=UTC:20250614T160000
DTSTAMP:20260423T003049
CREATED:20240521T110010Z
LAST-MODIFIED:20250514T083316Z
UID:519-1749895200-1749916800@gransee-info.de
SUMMARY:TAG DER OFFENEN TÜR SCHLOSS MESEBERG
DESCRIPTION:Einmal im Jahr gibt es Gelegenheit\, am Tag der offenen Tür einen Blick hinter die Kulissen von Schloss Meseberg\, dem Gästehaus der Bundesregierung\, zu werfen. Das historische Gemäuer und der Park\, die dem Bundeskanzler\, der Regierung und ihren Gästen als Rückzugsort für Gespräche fernab des Hauptstadttrubels dienen\, sind am geöffnet. Ausgewählte Räume im Erdgeschoss sowie die Parkanlage am Huwenowsee können in der Zeit von 10 bis 16 Uhr (letzter Einlass) besichtigt werden.  \nEntlang der Dorfstraße präsentieren regionale Anbieter sowie Vereine aus Meseberg verschiedene Angebote und kulinarische Leckerbissen (Fisch\, Gegrilltes\, Bowle\, Eis\, Gulaschkanone). Die Urlaubsregion Fürstenberg/Havel\, Gransee\, Zehdenick mit Ziegeleipark Mildenberg und Himmelpfort stellt sich ebenso vor\, bietet neben Informationen auch ausgewählte regionale Produkte zum Verkauf an. Geöffnet ist auch die Patronatskirche im Ort. Dort wird es Orgelkonzerte und Führungen geben. \nMeseberg liegt rund eine Stunde nördlich von Berlin und ist über die Bundesstraße 96 zu erreichen. Die Anfahrt ist ausgeschildert\, kostenlose Parkplätze sind ausreichend vorhanden. Die Sicherheitskontrollen für den Zugang zum Schloss entsprechen denen auf Flughäfen. \nBitte Personalausweis mitbringen!!!
URL:https://gransee-info.de/event/tag-der-offenen-tuer-schloss-meseberg
LOCATION:Schloss Meseberg\, Meseberger Dorfstraße\, Gransee OT Gransee\, Brandenburg\, 16775\, Deutschland
END:VEVENT
BEGIN:VEVENT
DTSTART;TZID=UTC:20250614T140000
DTEND;TZID=UTC:20250614T153000
DTSTAMP:20260423T003049
CREATED:20240223T105731Z
LAST-MODIFIED:20250114T092741Z
UID:386-1749909600-1749915000@gransee-info.de
SUMMARY:Stadtführungen “Gransee entdecken und erleben”
DESCRIPTION:Die Stadtführung “Gransee entdecken und erleben” mit dem Stadtschreiber Carsten Dräger im historischen Gewand.\nVoranmeldung erbeten telefonisch oder per e-mail in der TI Gransee oder bei Carsten Dräger\nTelefon: 033083 80201/ 015144209051/e-mail: carsten.f.draeger@gmail.com
URL:https://gransee-info.de/event/stadtfuehrungen-gransee-entdecken-und-erleben-16
LOCATION:Luisendenkmal\, Schinkelplatz\, Gransee\, 16775
ORGANIZER;CN="Carsten%20Dr%C3%A4ger":MAILTO:carsten.f.draeger@gmail.com
END:VEVENT
BEGIN:VEVENT
DTSTART;TZID=UTC:20250621T190000
DTEND;TZID=UTC:20250621T233000
DTSTAMP:20260423T003049
CREATED:20250521T105109Z
LAST-MODIFIED:20250521T105109Z
UID:704-1750532400-1750548600@gransee-info.de
SUMMARY:Oldieabend
DESCRIPTION:Oldieabend mit Live Musik mit “Olaf\, Ecki und Friends” Hits aus vergangener Jahrzehnten.\nBekannte Fürstenberger Musiker bringen echte Oldie-Stimmung auf die Sommerterrasse.\nVorverkauf: 23\,00 Euro\nAbendkasse: 28\,00 Euro
URL:https://gransee-info.de/event/oldieabend
LOCATION:Café ZEITLOS\, Bahnhofstraße 8\, Fürstenberg/ Havel\, 16798
END:VEVENT
BEGIN:VEVENT
DTSTART;TZID=UTC:20250622T110000
DTEND;TZID=UTC:20250622T123000
DTSTAMP:20260423T003049
CREATED:20230509T091050Z
LAST-MODIFIED:20250114T093032Z
UID:390-1750590000-1750595400@gransee-info.de
SUMMARY:Stadtführungen “Gransee entdecken und erleben”
DESCRIPTION:Die Stadtführung “Gransee entdecken und erleben” mit dem Stadtschreiber Carsten Dräger im historischen Gewand.\nVoranmeldung erbeten telefonisch oder per e-mail in der TI Gransee oder bei Carsten Dräger\nTelefon: 033083 80201/ 015144209051/e-mail: carsten.f.draeger@gmail.com
URL:https://gransee-info.de/event/stadtfuehrungen-gransee-entdecken-und-erleben-8
LOCATION:Luisendenkmal\, Schinkelplatz\, Gransee\, 16775
ORGANIZER;CN="Carsten%20Dr%C3%A4ger":MAILTO:carsten.f.draeger@gmail.com
END:VEVENT
BEGIN:VEVENT
DTSTART;TZID=UTC:20250624T140000
DTEND;TZID=UTC:20250624T160000
DTSTAMP:20260423T003049
CREATED:20250521T102313Z
LAST-MODIFIED:20250521T102313Z
UID:692-1750773600-1750780800@gransee-info.de
SUMMARY:Klönnachmittag "Süßer Sommergenuss mit Erdbeerduft"
DESCRIPTION:Die beliebten Klönnachmittage im Fürstenberger Café ZEITLOS erhalten ein frisches Konzept. Ab sofort steht dieser offene Treff\, der jeden letzten Dienstag im Monat ab 14 Uhr stattfindet\, unter spannenden Mottos\, die Gesprächsanlässe bieten\, zum Mitmachen einladen und interessante Einblicke ermöglichen. Gemeinsam mit dem Verein Alter Aktiv e.V. und regionalen Partnern wird so nicht nur der Austausch untereinander gefördert\, sondern es entstehen neue Impulse für alle Generationen. Ob Seniorinnen und Senioren\, Junggebliebene oder einfach Interessierte aller Altersgruppen – alle sind herzlich eingeladen\, in geselliger Runde neue Perspektiven zu entdecken. Für das leibliche Wohl ist wie immer bestens durch das Café ZEITLOS gesorgt.\nSüßer Sommergenuss mit Erdbeerduft und KaffeeklatschFoto: André Wirsig
URL:https://gransee-info.de/event/kloennachmittag-suesser-sommergenuss-mit-erdbeerduft
LOCATION:Café ZEITLOS\, Bahnhofstraße 8\, Fürstenberg/ Havel\, 16798
END:VEVENT
BEGIN:VEVENT
DTSTART;TZID=UTC:20250628T080000
DTEND;TZID=UTC:20250629T180000
DTSTAMP:20260423T003049
CREATED:20240627T095740Z
LAST-MODIFIED:20250624T115231Z
UID:544-1751097600-1751220000@gransee-info.de
SUMMARY:Granseer Fahrsportfestival
DESCRIPTION:Samstag: Großer Kutschenumzug durch die Granseer Altstadt mit Andacht auf dem Kirchplatz Gransee.\n Oberhavel
URL:https://gransee-info.de/event/granseer-fahrsportfestival
LOCATION:Gransee\, Oranienburger Str. 34\, Gransee\, 16775
END:VEVENT
BEGIN:VEVENT
DTSTART;TZID=UTC:20250702T110000
DTEND;TZID=UTC:20250702T123000
DTSTAMP:20260423T003049
CREATED:20230509T091400Z
LAST-MODIFIED:20250114T093347Z
UID:394-1751454000-1751459400@gransee-info.de
SUMMARY:Stadtführungen “Gransee entdecken und erleben”
DESCRIPTION:Die Stadtführung “Gransee entdecken und erleben” mit dem Stadtschreiber Carsten Dräger im historischen Gewand.\nVoranmeldung erbeten telefonisch oder per e-mail in der TI Gransee oder bei Carsten Dräger\nTelefon: 033083 80201/ 015144209051/e-mail: carsten.f.draeger@gmail.com
URL:https://gransee-info.de/event/stadtfuehrungen-gransee-entdecken-und-erleben-10
LOCATION:Luisendenkmal\, Schinkelplatz\, Gransee\, 16775
ORGANIZER;CN="Carsten%20Dr%C3%A4ger":MAILTO:carsten.f.draeger@gmail.com
END:VEVENT
END:VCALENDAR