BEGIN:VCALENDAR
VERSION:2.0
PRODID:-//Gransee eine historische Altstadt - ECPv5.1.6//NONSGML v1.0//EN
CALSCALE:GREGORIAN
METHOD:PUBLISH
X-WR-CALNAME:Gransee eine historische Altstadt
X-ORIGINAL-URL:https://gransee-info.de
X-WR-CALDESC:Veranstaltungen für Gransee eine historische Altstadt
BEGIN:VTIMEZONE
TZID:UTC
BEGIN:STANDARD
TZOFFSETFROM:+0000
TZOFFSETTO:+0000
TZNAME:UTC
DTSTART:20250101T000000
END:STANDARD
END:VTIMEZONE
BEGIN:VEVENT
DTSTART;TZID=UTC:20250503T163000
DTEND;TZID=UTC:20250503T180000
DTSTAMP:20260425T102500
CREATED:20220708T100637Z
LAST-MODIFIED:20250114T091920Z
UID:308-1746289800-1746295200@gransee-info.de
SUMMARY:Stadtführung "Gransee entdecken und erleben"
DESCRIPTION:“Auf historischer Zeitreise mit dem Stadtschreiber”\nVoranmeldung erbeten telefonisch oder per e-mail in der TI Gransee oder bei Carsten Dräger\nTelefon: 033083 80201/ 015144209051/e-mail: carsten.f.draeger@gmail.com
URL:https://gransee-info.de/event/stadtfuehrung-gransee-entdecken-und-erleben-6
LOCATION:Luisendenkmal\, Schinkelplatz\, Gransee\, 16775
END:VEVENT
BEGIN:VEVENT
DTSTART;TZID=UTC:20250510T110000
DTEND;TZID=UTC:20250510T133000
DTSTAMP:20260425T102500
CREATED:20220708T101020Z
LAST-MODIFIED:20250114T092115Z
UID:314-1746874800-1746883800@gransee-info.de
SUMMARY:Stadtführung "Gransee entdecken und erleben"
DESCRIPTION:
URL:https://gransee-info.de/event/stadtfuehrung-gransee-entdecken-und-erleben-9
LOCATION:Luisendenkmal\, Schinkelplatz\, Gransee\, 16775
END:VEVENT
BEGIN:VEVENT
DTSTART;TZID=UTC:20250514T110000
DTEND;TZID=UTC:20250514T123000
DTSTAMP:20260425T102500
CREATED:20220708T100903Z
LAST-MODIFIED:20250114T092226Z
UID:312-1747220400-1747225800@gransee-info.de
SUMMARY:Stadtführung "Gransee entdecken und erleben"
DESCRIPTION:
URL:https://gransee-info.de/event/stadtfuehrung-gransee-entdecken-und-erleben-8
LOCATION:Luisendenkmal\, Schinkelplatz\, Gransee\, 16775
END:VEVENT
BEGIN:VEVENT
DTSTART;TZID=UTC:20250527T140000
DTEND;TZID=UTC:20250527T160000
DTSTAMP:20260425T102500
CREATED:20250521T101254Z
LAST-MODIFIED:20250521T101811Z
UID:684-1748354400-1748361600@gransee-info.de
SUMMARY:Klönnachmittag „So macht das Smartphone den Alltag leichter“
DESCRIPTION:Foto: André Wirsig für die Regio Nord\nKlönnachmittage im Fürstenberger Café ZEITLOS jetzt mit wechselnden Themen. Auftakt am 27. Mai: „So macht das Smartphone den Alltag leichter“ \nDie beliebten Klönnachmittage im Fürstenberger Café ZEITLOS erhalten ein frisches Konzept. Ab sofort steht dieser offene Treff\, der jeden letzten Dienstag im Monat ab 14 Uhr stattfindet\, unter spannenden Mottos\, die Gesprächsanlässe bieten\, zum Mitmachen einladen und interessante Einblicke ermöglichen. Gemeinsam mit dem Verein Alter Aktiv e.V. und regionalen Partnern wird so nicht nur der Austausch untereinander gefördert\, sondern es entstehen neue Impulse für alle Generationen. Ob Seniorinnen und Senioren\, Junggebliebene oder einfach Interessierte aller Altersgruppen – alle sind herzlich eingeladen\, in geselliger Runde neue Perspektiven zu entdecken. Für das leibliche Wohl ist wie immer bestens durch das Café ZEITLOS gesorgt. \nUnter dem Titel „So macht das Smartphone den Alltag leichter“ dreht sich der erste Themennachmittag ganz um den praktischen Umgang mit dem Smartphone. Zu Gast ist Thomas Schulze vom Digitalen Innovationszentrum Neubrandenburg\, der in lockerer Runde zeigt\, wie moderne Technik das tägliche Leben erleichtern kann – ob beim Surfen im Internet\, dem Versenden von Nachrichten an die Familie\, bei Videotelefonie oder dem Teilen von Fotos. Teilnehmende sind eingeladen\, ihr eigenes Smartphone mitzubringen und das Gelernte direkt selbst auszuprobieren. Der Nachmittag richtet sich an alle\, die ihr Gerät besser verstehen und im Alltag sicherer nutzen möchten. Natürlich bleibt dabei genug Raum für ein gemütliches Beisammensein – bei Kaffee\, Kuchen und anregenden Gesprächen.
URL:https://gransee-info.de/event/kloennachmittag-so-macht-das-smartphone-den-alltag-leichter
LOCATION:Café ZEITLOS\, Bahnhofstraße 8\, Fürstenberg/ Havel\, 16798
END:VEVENT
BEGIN:VEVENT
DTSTART;TZID=UTC:20250530T140000
DTEND;TZID=UTC:20250530T153000
DTSTAMP:20260425T102500
CREATED:20230509T083138Z
LAST-MODIFIED:20250114T092434Z
UID:375-1748613600-1748619000@gransee-info.de
SUMMARY:Stadtführungen "Gransee entdecken und erleben"
DESCRIPTION:D\nDie Stadtführung “Gransee entdecken und erleben” mit dem Stadtschreiber Carsten Dräger im historischen Gewand.Voranmeldung erbeten telefonisch oder per e-mail in der TI Gransee oder bei Carsten Dräger\nTelefon: 033083 80201/ 015144209051/e-mail: carsten.f.draeger@gmail.com
URL:https://gransee-info.de/event/stadtfuehrungen-gransee-entdecken-und-erleben-4
LOCATION:Luisendenkmal\, Schinkelplatz\, Gransee\, 16775
ORGANIZER;CN="Carsten%20Dr%C3%A4ger":MAILTO:carsten.f.draeger@gmail.com
END:VEVENT
END:VCALENDAR