BEGIN:VCALENDAR
VERSION:2.0
PRODID:-//Gransee eine historische Altstadt - ECPv5.1.6//NONSGML v1.0//EN
CALSCALE:GREGORIAN
METHOD:PUBLISH
X-WR-CALNAME:Gransee eine historische Altstadt
X-ORIGINAL-URL:https://gransee-info.de
X-WR-CALDESC:Veranstaltungen für Gransee eine historische Altstadt
BEGIN:VTIMEZONE
TZID:UTC
BEGIN:STANDARD
TZOFFSETFROM:+0000
TZOFFSETTO:+0000
TZNAME:UTC
DTSTART:20220101T000000
END:STANDARD
END:VTIMEZONE
BEGIN:VEVENT
DTSTART;TZID=UTC:20220709T180000
DTEND;TZID=UTC:20220709T193000
DTSTAMP:20260420T180218
CREATED:20220708T094904Z
LAST-MODIFIED:20220708T094904Z
UID:290-1657389600-1657395000@gransee-info.de
SUMMARY:Stadtführungen "Gransee entdecken und erleben"
DESCRIPTION:“Auf historischer Zeitreise mit dem Stadtschreiber”\nVoranmeldungen erbeten: 033083-80201 oder carsten.f.draeger@gmail.com\nLuisendenkmal
URL:https://gransee-info.de/event/stadtfuehrungen-gransee-entdecken-und-erleben
LOCATION:Luisendenkmal\, Schinkelplatz\, Gransee\, 16775
END:VEVENT
END:VCALENDAR