BEGIN:VCALENDAR
VERSION:2.0
PRODID:-//Gransee eine historische Altstadt - ECPv5.1.6//NONSGML v1.0//EN
CALSCALE:GREGORIAN
METHOD:PUBLISH
X-WR-CALNAME:Gransee eine historische Altstadt
X-ORIGINAL-URL:https://gransee-info.de
X-WR-CALDESC:Veranstaltungen für Gransee eine historische Altstadt
BEGIN:VTIMEZONE
TZID:UTC
BEGIN:STANDARD
TZOFFSETFROM:+0000
TZOFFSETTO:+0000
TZNAME:UTC
DTSTART:20250101T000000
END:STANDARD
END:VTIMEZONE
BEGIN:VEVENT
DTSTART;TZID=UTC:20250913T110000
DTEND;TZID=UTC:20250913T123000
DTSTAMP:20260420T083600
CREATED:20220708T100204Z
LAST-MODIFIED:20251022T103015Z
UID:304-1757761200-1757766600@gransee-info.de
SUMMARY:Stadtführung "Gransee entdecken und erleben"
DESCRIPTION:“Auf historischer Zeitreise mit dem Stadtschreiber”\n\nVoranmeldung erbeten telefonisch oder per e-mail in der TI Gransee oder bei Carsten Dräger\nTelefon: 033083 80201/ 015144209051/e-mail: carsten.f.draeger@gmail.com
URL:https://gransee-info.de/event/stadtfuehrung-gransee-entdecken-und-erleben-4
LOCATION:Luisendenkmal\, Schinkelplatz\, Gransee\, 16775
ATTACH;FMTTYPE=image/jpeg:https://gransee-info.de/wp-content/uploads/2023/05/IMG-20210806-WA0001.jpg
END:VEVENT
END:VCALENDAR