BEGIN:VCALENDAR
VERSION:2.0
PRODID:-//Gransee eine historische Altstadt - ECPv5.1.6//NONSGML v1.0//EN
CALSCALE:GREGORIAN
METHOD:PUBLISH
X-WR-CALNAME:Gransee eine historische Altstadt
X-ORIGINAL-URL:https://gransee-info.de
X-WR-CALDESC:Veranstaltungen für Gransee eine historische Altstadt
BEGIN:VTIMEZONE
TZID:UTC
BEGIN:STANDARD
TZOFFSETFROM:+0000
TZOFFSETTO:+0000
TZNAME:UTC
DTSTART:20250101T000000
END:STANDARD
END:VTIMEZONE
BEGIN:VEVENT
DTSTART;TZID=UTC:20250215T190000
DTEND;TZID=UTC:20250215T230000
DTSTAMP:20260420T094639
CREATED:20250129T095222Z
LAST-MODIFIED:20250129T095253Z
UID:628-1739646000-1739660400@gransee-info.de
SUMMARY:Offene Bühne Menz
DESCRIPTION:Offene Bühne Menz – beliebte Konzertreihe geht weiter \nAm Samstag den 15. Februar gibt es wieder eine neue Ausgabe der ” Offenen Bühne” in Menz. Drei weiter bunte Konzerte sind für dieses Jahr geplant. Schon lange ist die offene Bühne in Menz kein Geheimtipp für Musikfreunde mehr. Profis und Amateure aus der Gegend haben die Möglichkeit sich zu präsentieren – für mindestens 3 Songs oder 15 Minuten gehört ihnen die Bühne und der Applaus des Publikums.\nDer Saal ist immer voll\, die Stimmung gut. Es gibt stehende Ovartionen und Kontakte werden geknüpft.\nHighlight das Abends ist die bekannte Harfinistin Camilla Pinder mit ihrer Rockband “Verdammt”. Sie spielt Klassik sowie Harfenrock und verzaubert ihr Publikum mit Charme und einer Stimme\, die eigentlich auf die größten Bühnen gehört.\nDann gibt noch das Duo : Hansi und Lutz aus Nauen mit beliebten Melodien aus den 20- Jahren und dem Duo ” Colcat” aus Rheinsberg mit außergewöhnlichen Interpretationen bekannter Songs . Dann sind da noch Lilly und Jette – die beiden pfiffigen Mädels auch aus Rheinsberg mit Pop und Beat und der Saxophonist Andreas aus Gransee\, der einfach nur großartig ist.\nDen Schluss macht wie üblich die Menzer Hausband : ” Paul Davis and Friends” mit Starguitarristen Micha Strahl. Sie spielen mit Blues und heißen Rock and Roll.\nAuch überraschende musikalische Spontangäste sind möglich.\nFür Speis und Trank ist gesorgt. Der Eintrill ist frei – man freut sich über Spenden\nDie Veranstaltung wird unterstützt von Verein Gemeinsam e.V und vom Förderverein Stechlin/Menzer Heide e.V. s
URL:https://gransee-info.de/event/offene-buehne-menz
LOCATION:Regionalwerkstatt\, Am Friedensplatz\, Menz\, 16775
END:VEVENT
END:VCALENDAR