BEGIN:VCALENDAR
VERSION:2.0
PRODID:-//Gransee eine historische Altstadt - ECPv5.1.6//NONSGML v1.0//EN
CALSCALE:GREGORIAN
METHOD:PUBLISH
X-WR-CALNAME:Gransee eine historische Altstadt
X-ORIGINAL-URL:https://gransee-info.de
X-WR-CALDESC:Veranstaltungen für Gransee eine historische Altstadt
BEGIN:VTIMEZONE
TZID:UTC
BEGIN:STANDARD
TZOFFSETFROM:+0000
TZOFFSETTO:+0000
TZNAME:UTC
DTSTART:20230101T000000
END:STANDARD
END:VTIMEZONE
BEGIN:VEVENT
DTSTART;TZID=UTC:20230318T174500
DTEND;TZID=UTC:20230318T200000
DTSTAMP:20260420T124244
CREATED:20220830T093716Z
LAST-MODIFIED:20220830T093716Z
UID:339-1679161500-1679169600@gransee-info.de
SUMMARY:"Mord mit BISS" Das Grusel-Dinner
DESCRIPTION:Auf Grund des großen Erfolges der letzten 9 Jahre ist eine rechtzeitige Reservierung empfehlenswert! \nEin Grusel-Dinner-Krimi mit schaurig-schönen Liedern und spitzen Zähnen \nSüßes oder Saure?\nDie gruslige Grafschaft hat zum Dinner geladen.\nDoch Kellner Willi Wamse traut der unheimlichen Gesellschaft aus Lebenden und Untoten nicht über den Weg.\nAls dann auch noch mysteriöse Morde geschehen\, schlägt seine große Stunde. Todssicher! \nWir laden wieder zum witzig\, spritzig\, gruseligen Abend ein.\nGenießen Sie den Aperitiv und lassen Sie sich danach wieder\nin den nächsten großen Kriminalfall von Burow verwickeln. \nZwischen den Akten servieren wir Ihnen ein “mörderisches” 4 Gänge-Menü. \nTheaterkarte\, Aperitiv und 4 Gang-Menü     \n“Mord mit BISS” Das Grusel-Dinner
URL:https://gransee-info.de/event/mord-mit-biss-das-grusel-dinner
LOCATION:Hotel & Restaurant “Zum Birkenhof”\, Waldstraße 1\, Großwoltersdorf-Burow\, 16775
END:VEVENT
END:VCALENDAR