BEGIN:VCALENDAR
VERSION:2.0
PRODID:-//Gransee eine historische Altstadt - ECPv5.1.6//NONSGML v1.0//EN
CALSCALE:GREGORIAN
METHOD:PUBLISH
X-WR-CALNAME:Gransee eine historische Altstadt
X-ORIGINAL-URL:https://gransee-info.de
X-WR-CALDESC:Veranstaltungen für Gransee eine historische Altstadt
BEGIN:VTIMEZONE
TZID:UTC
BEGIN:STANDARD
TZOFFSETFROM:+0000
TZOFFSETTO:+0000
TZNAME:UTC
DTSTART:20220101T000000
END:STANDARD
END:VTIMEZONE
BEGIN:VEVENT
DTSTART;TZID=UTC:20220923T200000
DTEND;TZID=UTC:20220923T213000
DTSTAMP:20260420T142102
CREATED:20220907T091420Z
LAST-MODIFIED:20220907T091420Z
UID:344-1663963200-1663968600@gransee-info.de
SUMMARY:Monsieur Pompadou
DESCRIPTION:
URL:https://gransee-info.de/event/monsieur-pompadou
LOCATION:Heimatmuseum Gransee\, Rudolf-Breitscheid-Straße 44\, Gransee\, 16775
END:VEVENT
END:VCALENDAR