BEGIN:VCALENDAR
VERSION:2.0
PRODID:-//Gransee eine historische Altstadt - ECPv5.1.6//NONSGML v1.0//EN
CALSCALE:GREGORIAN
METHOD:PUBLISH
X-WR-CALNAME:Gransee eine historische Altstadt
X-ORIGINAL-URL:https://gransee-info.de
X-WR-CALDESC:Veranstaltungen für Gransee eine historische Altstadt
BEGIN:VTIMEZONE
TZID:UTC
BEGIN:STANDARD
TZOFFSETFROM:+0000
TZOFFSETTO:+0000
TZNAME:UTC
DTSTART:20220101T000000
END:STANDARD
END:VTIMEZONE
BEGIN:VEVENT
DTSTART;TZID=UTC:20220924T190000
DTEND;TZID=UTC:20220924T210000
DTSTAMP:20260420T155846
CREATED:20220708T091819Z
LAST-MODIFIED:20220708T093347Z
UID:277-1664046000-1664053200@gransee-info.de
SUMMARY:"EloA in Concert  A Tribute to Sarah Connor"
DESCRIPTION:
URL:https://gransee-info.de/event/meseberger-dorffest-eloa-in-concert-a-tribute-to-sarah-connor
LOCATION:Dorfkrug Meseberg\, Dorfstraße 14\, Meseberg\, Brandenburg\, 16775
END:VEVENT
END:VCALENDAR