BEGIN:VCALENDAR
VERSION:2.0
PRODID:-//Gransee eine historische Altstadt - ECPv5.1.6//NONSGML v1.0//EN
CALSCALE:GREGORIAN
METHOD:PUBLISH
X-WR-CALNAME:Gransee eine historische Altstadt
X-ORIGINAL-URL:https://gransee-info.de
X-WR-CALDESC:Veranstaltungen für Gransee eine historische Altstadt
BEGIN:VTIMEZONE
TZID:UTC
BEGIN:STANDARD
TZOFFSETFROM:+0000
TZOFFSETTO:+0000
TZNAME:UTC
DTSTART:20230101T000000
END:STANDARD
END:VTIMEZONE
BEGIN:VEVENT
DTSTART;TZID=UTC:20230416T160000
DTEND;TZID=UTC:20230416T173000
DTSTAMP:20260420T110857
CREATED:20230404T120813Z
LAST-MODIFIED:20230404T120813Z
UID:361-1681660800-1681666200@gransee-info.de
SUMMARY:Lesung mit Max Bubbel
DESCRIPTION:Lesung mit Max Bubbel\, der aus seinen Texten über Leben\, Frieden\, Freundschaft und Liebe liest. Der Eintritt ist frei.
URL:https://gransee-info.de/event/lesung-mit-max-bubbel
LOCATION:Dorfkrug Meseberg\, Dorfstraße 14\, Meseberg\, Brandenburg\, 16775
END:VEVENT
END:VCALENDAR