BEGIN:VCALENDAR
VERSION:2.0
PRODID:-//Gransee eine historische Altstadt - ECPv5.1.6//NONSGML v1.0//EN
CALSCALE:GREGORIAN
METHOD:PUBLISH
X-WR-CALNAME:Gransee eine historische Altstadt
X-ORIGINAL-URL:https://gransee-info.de
X-WR-CALDESC:Veranstaltungen für Gransee eine historische Altstadt
BEGIN:VTIMEZONE
TZID:UTC
BEGIN:STANDARD
TZOFFSETFROM:+0000
TZOFFSETTO:+0000
TZNAME:UTC
DTSTART:20220101T000000
END:STANDARD
END:VTIMEZONE
BEGIN:VEVENT
DTSTART;TZID=UTC:20221204T160000
DTEND;TZID=UTC:20221204T173000
DTSTAMP:20260422T101710
CREATED:20220708T093234Z
LAST-MODIFIED:20220708T093234Z
UID:285-1670169600-1670175000@gransee-info.de
SUMMARY:Lesung im Meseberger Dorfkrug
DESCRIPTION:Winnie Böwe liest Weihnachtserzählungen von Hans Fallada
URL:https://gransee-info.de/event/lesung-im-meseberger-dorfkrug
LOCATION:Dorfkrug Meseberg\, Dorfstraße 14\, Meseberg\, Brandenburg\, 16775
END:VEVENT
END:VCALENDAR