BEGIN:VCALENDAR
VERSION:2.0
PRODID:-//Gransee eine historische Altstadt - ECPv5.1.6//NONSGML v1.0//EN
CALSCALE:GREGORIAN
METHOD:PUBLISH
X-WR-CALNAME:Gransee eine historische Altstadt
X-ORIGINAL-URL:https://gransee-info.de
X-WR-CALDESC:Veranstaltungen für Gransee eine historische Altstadt
BEGIN:VTIMEZONE
TZID:UTC
BEGIN:STANDARD
TZOFFSETFROM:+0000
TZOFFSETTO:+0000
TZNAME:UTC
DTSTART:20230101T000000
END:STANDARD
END:VTIMEZONE
BEGIN:VEVENT
DTSTART;TZID=UTC:20230707T193000
DTEND;TZID=UTC:20230708T000000
DTSTAMP:20260420T083804
CREATED:20230616T122322Z
LAST-MODIFIED:20230616T122322Z
UID:424-1688758200-1688774400@gransee-info.de
SUMMARY:Leinen los\, auf geht´s zum 26. Brandenburger Wasserfest
DESCRIPTION:Die Koordinaten sind gesetzt und die Navigation läuft: Am 7. und 8. Juli heißt es: „Leinen los\, auf geht’s zum 26. Brandenburger Wasserfest“!\nIn der Nacht von Freitag zu Samstag steigt in feinster Uferlocation die „Warm-Up Party“. Die DJ´s Chrissi\, Günni & Carsten legen Hits der 90er\, 2000er\, Schlager & Charts auf. Es wird getanzt\, als gäbe es kein Morgen. Doch der kommt\, und zwar ganz leise: Psst\, der Angelkönig wird gesucht. Mit den Pauken und Trompeten des Fanfarenzuges Neustrelitz zieht dann der Festumzug der Schützenzunft zu Fürstenberg e.V. mit seinen Gastvereinen durch die Wasserstadt und wird im Stadtpark mit Böller-\, Salutschießen und dem Bierfassanstich empfangen.\nFeucht-fröhliche Höhepunkte des Wasserfestes werden die Seerosenfahrten mit Barkassenbooten\, eine offene Yardstickregatta und schließlich die Original Spaßbootregatta. Welches skurrile Gefährt paddelt in diesem Jahr mit dem Wanderpokal in seinen Heimathafen? Oder\, wagen feurige\, unbekannte Spaßpiraten den Pokal zu kapern?   \nMit allen Wassern gewaschen ist auch wieder das Festprogramm\, eine Show jagt die nächste Band bis zum kommenden Konzert. So dürfen wir uns auf die Kinder-Mitmach-Konzert-Party mit Larissa und Caro von der DONIKKL Crew freuen. Das wird atemberaubend toll für die gesamte Crew\, versprochen! Außerdem werden auch die Band „Blackbird“ und die “The Clogs” live auf der Bühne spielen\, bevor uns „Die PartyShakers“ in die Nacht begleiten. Zwischendrin steigt natürlich wieder das bereits legendäre Wasserhöhenfeuerwerk mit Lasershow über dem Schwedtsee.\nViele\, viele weitere Aktionen\, Überraschungen\, Präsentationen und Vorführungen werden das 26. Brandenburger Wasserfest begleiten und abrunden. Sollten Sie zu den Wasserfesttagen in der Nähe sein\, lassen Sie sich das Spektakel nicht entgehen. Oder noch besser\, planen Sie es einfach gleich fest ein.  \nWeitere Informationen und das komplette Festprogramm:\nhttps://www.fuerstenberg-havel.de/wasserfestFuerstenberg_
URL:https://gransee-info.de/event/leinen-los-auf-gehts-zum-26-brandenburger-wasserfest
LOCATION:Stadtpark am Schwedtsee\, Fürstenberg\, 16775
END:VEVENT
END:VCALENDAR