BEGIN:VCALENDAR
VERSION:2.0
PRODID:-//Gransee eine historische Altstadt - ECPv5.1.6//NONSGML v1.0//EN
CALSCALE:GREGORIAN
METHOD:PUBLISH
X-WR-CALNAME:Gransee eine historische Altstadt
X-ORIGINAL-URL:https://gransee-info.de
X-WR-CALDESC:Veranstaltungen für Gransee eine historische Altstadt
BEGIN:VTIMEZONE
TZID:UTC
BEGIN:STANDARD
TZOFFSETFROM:+0000
TZOFFSETTO:+0000
TZNAME:UTC
DTSTART:20220101T000000
END:STANDARD
END:VTIMEZONE
BEGIN:VEVENT
DTSTART;TZID=UTC:20221225T110000
DTEND;TZID=UTC:20221226T143000
DTSTAMP:20260420T144115
CREATED:20220830T092412Z
LAST-MODIFIED:20220830T093934Z
UID:334-1671966000-1672065000@gransee-info.de
SUMMARY:Festliches Brunchbufett
DESCRIPTION:Nur einige Speisen zum Appetit holen \nHausgebeizter Lachs\, Wildsalat mit Pilzen\, geräucherte Entenbrust\,\n 1 weihnachtliches Süppchen\,\nGänsekeule und rosa Entenbrust\, Fisch\, Entenkeule und Wildbraten\nGrünkohl\, Apfelrotkohl\, Rosenkohl\, Rahmwirsing und Mini-Klöße\ngroßes Käsebrett\, Bratäpfel und eine große Auswahl an sündhaften Desserts \nund das ist nur eine Auswahl………..\nfreuen Sie sich auf noch einiges mehr! \npro Person 35\,00 Euro \nKinder zum Sonderpreis\n \nTischreservierung inkl. Anzahlung erforderlich!
URL:https://gransee-info.de/event/festliches-brunchbuefett
LOCATION:Hotel & Restaurant “Zum Birkenhof”\, Waldstraße 1\, Großwoltersdorf-Burow\, 16775
END:VEVENT
END:VCALENDAR