BEGIN:VCALENDAR
VERSION:2.0
PRODID:-//Gransee eine historische Altstadt - ECPv5.1.6//NONSGML v1.0//EN
CALSCALE:GREGORIAN
METHOD:PUBLISH
X-WR-CALNAME:Gransee eine historische Altstadt
X-ORIGINAL-URL:https://gransee-info.de
X-WR-CALDESC:Veranstaltungen für Gransee eine historische Altstadt
BEGIN:VTIMEZONE
TZID:UTC
BEGIN:STANDARD
TZOFFSETFROM:+0000
TZOFFSETTO:+0000
TZNAME:UTC
DTSTART:20250101T000000
END:STANDARD
END:VTIMEZONE
BEGIN:VEVENT
DTSTART;TZID=UTC:20250713T180000
DTEND;TZID=UTC:20250713T190000
DTSTAMP:20260420T100231
CREATED:20250521T095635Z
LAST-MODIFIED:20250521T095640Z
UID:681-1752429600-1752433200@gransee-info.de
SUMMARY:Die Orgel tanzt - Walzer\, Tango\, Boogie und Co.
DESCRIPTION:“Die Orgel tanzt – Walzer\, Tango\, Boogie und Co.”. Ein humorvolles Orgelkonzert\, bei dem die Pfeifen tanzen\, kann man am Sonntag\, dem 13. Juli um 18 Uhr in der St. Marienkirche Gransee erleben. An diesem Abend ist die barocke Orgel in einem beschwingten und humorvollen Konzert mit 4 Händen und 4 Füßen sowie gleichzeitiger Video-Übertragung der Orgel-Spielanlage auf eine große Leinwand im Kirchenraum zu sehen und zu hören. \nDie Besucher erwartet originale Tanzmusik für Pfeifenorgel von 1500 bis heute. Bereits in der Frühzeit der Orgelmusik wurden neben geistlichen Kompositionen auch Tänze für Orgel komponiert. Schon in den ersten Orgel-Notenbüchern im 14. Jahrhundert sind erste Orgel-Tänze überliefert. Auch in Klöstern der Barockzeit entstand Orgel-Tanzmusik oder im 19. Jahrhundert in der Schweiz die berühmten Toggenburger Hausorgeltänze. Heute wird diese Tradition mit neuen Orgelstücken im Swing- und Jazz-Stil fortgesetzt. Die Konzertbesucher erwarten Tänze\, Märsche\, Walzer\, Tango\, Polka\, Ländler\, Swing\, Blues\, Cha Cha Cha\, Boogie und Co. von Elias Nikolaus Ammerbach\, Giovanni Morandi\, Elsbeth Forrer\, Thomas P. Westendorf\, Julien Bret\, Robin Dinda\, Carsten Lenz u. a. \nIris und Carsten Lenz sind Organisten an der großen und bedeutenden Skinner-Orgel der Saalkirche in Ingelheim am Rhein. Dort haben sie gerade seit der Corona-Zeit einige vielbeachtete evangelische ZDF-Fernsehgottesdienste musikalisch gestaltet. Mit ihren vierhändigen Konzertprogrammen haben sie bisher zahlreiche Konzerte in vielen Ländern Europas und in den USA gespielt. Zusätzlich haben sie rund 30 CD-Einspielungen und 3 Video-DVDs vorgelegt sowie bei weiteren Radio- und TV-Produktionen mitgewirkt. \nDie Musiker ergänzen: “Die barocke Orgel aus den Werkstätten Wagner und Schuke hat mit ihren 2.044 Pfeifen ein farbenreiches Klangbild\, das sich ideal für unser Konzertprogramm mit fröhlichen und beschwingten Orgel-Tänzen eignet. Ca.10 Minuten vor Konzertbeginn machen wir als kleines Vorprogramm noch eine kurze Orgel-Vorführung\, bei der die Besucher Einblicke in die Funktionsweise und Klangmöglichkeiten der Orgel bekommen.” \nDer Eintritt ist frei (Kollekte am Ausgang).Infos zu den Ausführenden und Demo-Video: www.lenz-musik.de.
URL:https://gransee-info.de/event/die-orgel-tanzt-walzer-tango-boogie-und-co
LOCATION:Marienkirche Gransee\, Kirchplatz\, Gransee\, 16775\, Deutschland
ORGANIZER;CN="Marienkirche%20Gransee":MAILTO:gemeindebuero@kirchengemeinde-gransee.de
END:VEVENT
END:VCALENDAR