BEGIN:VCALENDAR
VERSION:2.0
PRODID:-//Gransee eine historische Altstadt - ECPv5.1.6//NONSGML v1.0//EN
CALSCALE:GREGORIAN
METHOD:PUBLISH
X-WR-CALNAME:Gransee eine historische Altstadt
X-ORIGINAL-URL:https://gransee-info.de
X-WR-CALDESC:Veranstaltungen für Gransee eine historische Altstadt
BEGIN:VTIMEZONE
TZID:UTC
BEGIN:STANDARD
TZOFFSETFROM:+0000
TZOFFSETTO:+0000
TZNAME:UTC
DTSTART:20240101T000000
END:STANDARD
END:VTIMEZONE
BEGIN:VEVENT
DTSTART;TZID=UTC:20241129T190000
DTEND;TZID=UTC:20241129T230000
DTSTAMP:20260420T112916
CREATED:20241120T114433Z
LAST-MODIFIED:20241120T114433Z
UID:582-1732906800-1732921200@gransee-info.de
SUMMARY:Adventskonzert
DESCRIPTION:Am Freitag den 29. November gibt es wieder eine “offene Bühne ” in Menz. Diesmal ist es ein Adventskonzert mit vielen weihnachtlichen Klängen.\nEs ist auch die elfte “Offene Bühne ” in Menz. Die Konzertreihe hat sich mit 4 gut besuchten Veranstaltungen pro Jahr einen Namen für gute Livemusik gemacht. Im Saal der Regionalwerkstatt stehen wieder Profis und Laien auf dem bunten Programm. Beginn ist am Freitag um es 19 Uhr.\nMusiker aus der Gegend haben die Möglickeit sich zu präsentieren und jeder hat mindestens Zeit für 15 Minuten oder drei Songs. Solisten\, Duos und Bands sorgen für einen abwechsungsreichen Abend von Klassisch über Folk\, Blues\, Pop und  Rock.\nGanz besonders freut man sich über den Neugögower Weihnachtschor\, der eigentlich – außer seiner Generalprobe – nur am Heiligen Abend in der Kirche in Neulögow singt .\nUnter Leitung von Herbert Brauer bringen schöne Stimmen mehrstimmig Weihnachtliches aus vielen Ländern und Weihnachtslieder zum Mitsingen.\nDanach gibt es Harfenmusik und ostdeutsche Weihnachtlieder mit der Gruppe Delikat. Floh aus Neuruppin singt freche eigene Songs. Klassische englische Weihnachtslieder bringt Paul und das Duo “Lilly und Jette “aus Reihnsberg spielt Pop und Blues. Die Band “Heidi und dir alten Säcke” aus Friesack bringen Oldies und zum Schluß gibts Weihachtsrock und Pop und Rock mit der Menzer Band Paul Davis und Friends. \nKleine Änderungen oder musikalische Überraschungen sind immer möglich.\nGlühwein\, Würstchen und Schmalzbrot stehen bereit. Der Eintrill ist frei.\nDie Veranstaltung wird unterstützt von Gemeinsam e.V. und em Förderverein Naturlandschaft Stechlin / Menzer Heide e.V.
URL:https://gransee-info.de/event/adventskonzert-2
LOCATION:Regionalzentrum Menz\, Menz\, 16775
END:VEVENT
END:VCALENDAR